BEGIN:VCALENDAR
VERSION:2.0
PRODID:-//Kayathlon - ECPv6.15.20//NONSGML v1.0//EN
CALSCALE:GREGORIAN
METHOD:PUBLISH
X-ORIGINAL-URL:https://kayathlon.ie
X-WR-CALDESC:Events for Kayathlon
REFRESH-INTERVAL;VALUE=DURATION:PT1H
X-Robots-Tag:noindex
X-PUBLISHED-TTL:PT1H
BEGIN:VTIMEZONE
TZID:UTC
BEGIN:STANDARD
TZOFFSETFROM:+0000
TZOFFSETTO:+0000
TZNAME:UTC
DTSTART:20250101T000000
END:STANDARD
END:VTIMEZONE
BEGIN:VTIMEZONE
TZID:Europe/Dublin
BEGIN:STANDARD
TZOFFSETFROM:+0000
TZOFFSETTO:+0100
TZNAME:IST
DTSTART:20250330T010000
END:STANDARD
BEGIN:DAYLIGHT
TZOFFSETFROM:+0100
TZOFFSETTO:+0000
TZNAME:GMT
DTSTART:20251026T010000
END:DAYLIGHT
BEGIN:STANDARD
TZOFFSETFROM:+0000
TZOFFSETTO:+0100
TZNAME:IST
DTSTART:20260329T010000
END:STANDARD
BEGIN:DAYLIGHT
TZOFFSETFROM:+0100
TZOFFSETTO:+0000
TZNAME:GMT
DTSTART:20261025T010000
END:DAYLIGHT
BEGIN:STANDARD
TZOFFSETFROM:+0000
TZOFFSETTO:+0100
TZNAME:IST
DTSTART:20270328T010000
END:STANDARD
BEGIN:DAYLIGHT
TZOFFSETFROM:+0100
TZOFFSETTO:+0000
TZNAME:GMT
DTSTART:20271031T010000
END:DAYLIGHT
END:VTIMEZONE
BEGIN:VEVENT
DTSTART;VALUE=DATE:20260613
DTEND;VALUE=DATE:20260614
DTSTAMP:20260419T163057
CREATED:20251211T141857Z
LAST-MODIFIED:20260311T143748Z
UID:29393-1781308800-1781395199@kayathlon.ie
SUMMARY:Gaelforce West
DESCRIPTION:STAGE 1: 13.5KM | RUN | MOSTLY TRAIL & SOME ROAD \nThe start line is located at Lough Inagh Valley in Connemara. Run between the Maamturks and the 12 Bens in this stunning valley trail run  that will bring you out in the Coillte forests at the back of Killary Adventure Centre. \nSTAGE  2: 1KM | KAYAK | KILLARY FJORD \nKayak from the southern shore of Killary Fjord to its northern shore in a two-man sit-on-top with the next competitor to you. \nSTAGE 3: 4KM | RUN | TRAIL & ROAD \nDisembarking onto the foothills of Mweelrea\, with tufted long grass and boggy holes underfoot. Next on to a laneway and eventually a narrow road leading you into the Delphi Valley. \nSTAGE 4: 30KM | CYCLE\nLeaving the Delphi Valley and heading for Drummin\, spectacular hills to climb and extreme care needed on the downhills. Expect severe corners and narrow country roads. On to a gradual climb up to the back of Croagh Patrick and the transition area. This entire section is now on sealed roads. \nSTAGE 5: 4.5KM | MOUNTAIN RUN/WALK | TRAIL \nCroagh Patrick (764m). Stay on the path and take care on the top section of this mountain as it has a lot of loose stones. If you do not reach the transition at the bottom by 2.30pm\, you will not be allowed to ascend the mountain and you will be short coursed back to Westport. \nGaelforce would like to acknowledge and thank all the land owners of the Croagh Patrick mountain for the continued support of Gaelforce West\, without which the event could not happen \nThere is currently a Sustainable Access and Habitat Restoration project underway on it which aims to provide a robust path for access and to restore the eroded parts of the mountain. Gaelforce is working with and fully supports the Croagh Patrick Shareholder Group to protect the heritage and the landscape of the mountain. We ask that competitors do not use the Croagh Patrick to train for our race at any time. Gaelforce would like to share the ethos of care on Croagh Patrick with you our competitors. We ask that all competitors ensure that they ‘Leave No Trace’ on the mountain and that what they bring up with them MUST come down. We also encourage you to read the  Mayo Mountain Rescue Safety Guidelines for climbing Croagh Patrick. \nRace day:\nThere will be a very strict policy on keeping to the defined path. Any deviation from any competitors from the path will result in instant disqualification. \nThis is to ensure the ongoing work to the path is not adversely affected in any way. We appreciate your compliance on this. \nPlease also be aware Gaelforce does not have exclusive use of the mountain on race day and competitors must be respectful of other users on the day. \nSTAGE 6: 13KM | CYCLE \nThe off road section affectionally know as ‘the Skelp’ was removed from the route for the 2019 race. \nAlways obey the rules of the road. Return to the junction with the N59 along a sealed road and on towards the finish line at Westport.
URL:https://kayathlon.ie/event/gaelforce-west-26/
LOCATION:Westport\, Mayo\, Ireland
CATEGORIES:Event Happening
ATTACH;FMTTYPE=image/jpeg:https://kayathlon.ie/wp-content/uploads/2025/12/GFW_logo.jpg
END:VEVENT
BEGIN:VEVENT
DTSTART;TZID=Europe/Dublin:20260613T080000
DTEND;TZID=Europe/Dublin:20260613T170000
DTSTAMP:20260419T163057
CREATED:20260311T122205Z
LAST-MODIFIED:20260311T130610Z
UID:29435-1781337600-1781370000@kayathlon.ie
SUMMARY:Gaelforce Westport (34km)
DESCRIPTION:GAELFORCE WESTPORT 34KM\n\n\nRun 7.5km | Cycle 27.5km\n\nStage 1 | 1.5km run | Greenway\nStart at Westport Quay and head out along the Great Western Greenway to Westport Skatepark for the first transition. \nStage 2 | 7.5km cycle | Sealed road\nLeave the skatepark and roll out on the R335. Turn for Churchfield\, cycle the rural roads of Killeenacofs\, then into the Brackloon Woods transition area. \nStage 3 | 3km run | Woods trail\nSwap the bike for a forest run through Brackloon Woods on woodland paths\, returning to the bike transition. \nStage 4 | 7km cycle | Sealed road\nBack on the saddle for a sealed road leg with a steady climb in the final kilometres as you approach the Croagh Patrick transition area. \nStage 5 | 3km mountain run or walk | Trail\nA short\, punchy Croagh Patrick section that takes you up to the ridge and back. Expect steep gradients\, rough trail\, and a big effort in a short distance. \nStage 6 | 12km cycle | Sealed road\nFinal cycle back towards Westport via sealed roads and the N59. Drop your bike at the last transition\, then it is a short run to the finish line!
URL:https://kayathlon.ie/event/gaelforce-westport-34km/
LOCATION:Westport\, Mayo\, Ireland
CATEGORIES:Adventure Race
ATTACH;FMTTYPE=image/jpeg:https://kayathlon.ie/wp-content/uploads/2026/03/Gaelforce-Westport.jpg
END:VEVENT
END:VCALENDAR