BEGIN:VCALENDAR
VERSION:2.0
PRODID:-//Kayathlon - ECPv6.15.20//NONSGML v1.0//EN
CALSCALE:GREGORIAN
METHOD:PUBLISH
X-WR-CALNAME:Kayathlon
X-ORIGINAL-URL:https://kayathlon.ie
X-WR-CALDESC:Events for Kayathlon
REFRESH-INTERVAL;VALUE=DURATION:PT1H
X-Robots-Tag:noindex
X-PUBLISHED-TTL:PT1H
BEGIN:VTIMEZONE
TZID:Europe/Dublin
BEGIN:STANDARD
TZOFFSETFROM:+0000
TZOFFSETTO:+0100
TZNAME:IST
DTSTART:20250330T010000
END:STANDARD
BEGIN:DAYLIGHT
TZOFFSETFROM:+0100
TZOFFSETTO:+0000
TZNAME:GMT
DTSTART:20251026T010000
END:DAYLIGHT
BEGIN:STANDARD
TZOFFSETFROM:+0000
TZOFFSETTO:+0100
TZNAME:IST
DTSTART:20260329T010000
END:STANDARD
BEGIN:DAYLIGHT
TZOFFSETFROM:+0100
TZOFFSETTO:+0000
TZNAME:GMT
DTSTART:20261025T010000
END:DAYLIGHT
BEGIN:STANDARD
TZOFFSETFROM:+0000
TZOFFSETTO:+0100
TZNAME:IST
DTSTART:20270328T010000
END:STANDARD
BEGIN:DAYLIGHT
TZOFFSETFROM:+0100
TZOFFSETTO:+0000
TZNAME:GMT
DTSTART:20271031T010000
END:DAYLIGHT
END:VTIMEZONE
BEGIN:VEVENT
DTSTART;VALUE=DATE:20260926
DTEND;VALUE=DATE:20260927
DTSTAMP:20260420T013819
CREATED:20260226T125639Z
LAST-MODIFIED:20260226T125639Z
UID:29404-1790380800-1790467199@kayathlon.ie
SUMMARY:FEARmanagh Adventure Race
DESCRIPTION:What better way to spend a Saturday morning than getting up close and personal with Fermanagh’s rugged and wild terrain. Cycle through quiet back roads that cut through the limestone landscape\, carved out by Ireland’s icy past\, they’re guaranteed to give you more ups than downs! \nThen experience the wetter side of Fermanagh as you take to the water for 2 challenging Kilometres along Lough Erne’s rocky shores – and if the 304 metre near vertical climb to the top of the Magho Cliff Challenge doesn’t take your breath away\, then maybe the panoramic view it offers at the top will! So in a county steeped in myth and folklore\, are you ready to become a legend in your own time? \nFeel the FEAR and do it anyway! \nLong Race\nLong Race \n\nCycling (Knockmore to Lough Shore) 10.2kms\nRunning (Wee Dog Jog) 7kms\nCycling (Knockmore to Lough Shore cont …) 30.5kms\nRunning (Blackslee Trail) 4.5km\nCycling (Knockmore to Lough Shore cont …) 3.8kms\nRunning (The Magho Cliff Challenge – downhill) 1.2kms\nKayaking (Paddle Power Point) 2kms\nRunning (The Magho Cliff Challenge – uphill 1\,000ft) 1.2km\nCycling (Lough Shore to Pub Door) 13.6kms\n\nTotal: 74Kms (approx) \nFull Description\nLEG 1 – CYCLING \nAfter an easy start down through Derrygonnelly a series of small hills brings you to the foot of Knockmore. The climb starts steeply and gets worse before an easy section just after half way leads to the final ramp. Treat this climb with respect as there’s not much recovery before you reach Transition 1 (T1) and it’s too early in the day to be digging deep. \nLEG 2 – TRAIL RUN \nA fairly fast route on forest fire road with a short section of tarmac road at halfway. If it’s clear there can be great views early on towards the Sligo hills. Once through the farm yard after the road section prepare yourself for a sapping uphill drag of about 1km before retracing part of your outward route back to the bike. \nLEG 3 – CYCLING \nThe first section to Cashel Cross is great – good surface\, sweeping bends and almost all downhill. The next bit to Garrison isn’t too bad either – an initial climb followed by a quick section on the back road into the village. The route takes in the beautiful park alongside Lough Melvin before a short off road section across a footbridge and up a steep un-surfaced track. You’ll have to run this bit but it’s all over in a minute or two. The rest of the leg to T2 is on good road but it’s tough. Endless short steep hills or long drags for most of the way sap the strength of even the best cyclist. The section from the high point at Meenacloybane to the entrance to the forest drive gives you some respite before the final leg buster to T2. \nLEG4 – TRAIL RUNNING \nAlthough shorter than the first trail run this one seems harder. Again the first half is downhill on fire road except for about 800m of single track past the waterfall. It’s all uphill now back to the transition. It feels relentless at this stage in the race. \nLEG 5 – CYCLING \nThis is the shortest bike leg. If you’ve been changing shoes between running and cycling you might decide it’s not worth it for this section. The only problem is the really steep bit of road about half way in. Not easy to overcome in trail shoes on clipless pedals. If you can take the time to admire the view from T3 glance across Lough Erne towards Donegal. It’s spectacular but looks a long way down. \nLEG 6 – TRAIL RUNNING \nAlmost 300metres of descending in less than 1km. This will trash the legs unless you’re used to hill running. The steps can be tricky but you must keep to the path. \nLEG 7 – KAYAKING \nGrab your choice of open top kayak and head east parallel to the shoreline for 500metres before rounding the buoy and heading back past the transition area to the next buoy barely visible 1km away. You should be sheltered from the prevailing winds so you can enjoy the long views across Lough Erne to your right or contemplate what’s to come on the next leg to your left. Round buoy 2 and head back to transition. \nLEG 8 – TRAIL RUNNING \nAs a one off this next bit\, the climb back up to T3\, is hard enough but after what’s gone before it’s nothing short of horrendous. If you can run all the way and not cramp up you’ll be one of the very few. \nLEG 9 – CYCLING \nThe glory leg\, this is a fast and furious descent to the finish. Enjoy it. No holding back required. Let your inner Bradley Wiggins out. \nNB. Routes may be subject to slight changes \nShort Race\nShort Race \n\nCycling (Tir Navar to Lough Navar) 9.8kms\nRunning (Blackslee Trail) 4.5km\nCycling (Knockmore to Lough Shore cont……) 3.8kms\nRunning (The Magho Cliff Challenge – downhill) 1.2km\nKayaking (Paddle Power Point) 1km\nRunning (The Magho Cliff Challenge – uphill 1\,000ft) 1.2km\nCycling (Lough Shore to Pub Door) 13.6kms\n\nTotal: 35Kms (approx) \nFull Description\nLEG 1 – CYCLING \nAfter an easy start down through Derrygonnelly a series of small hills brings you to the foot of the climb up to the forest drive entrance. The next bit isn’t any easier; it’s a leg buster to T1. \nLEG 2 – TRAIL RUNNING \nMaybe on the map this doesn’t look too bad but give it some respect. The first half is downhill on fire road except for about 800m of single track past the waterfall. It’s all uphill now back to the transition. It feels relentless and will sap the leg strength before the next section. \nLEG 3 – CYCLING \nThis is the shortest bike leg. If you’re changing shoes between running and cycling you might decide it’s not worth it for this section. The only problem is the really steep bit of road about half way in. Not easy to overcome in trail shoes on clipless pedals. If you can take the time to admire the view from T2 glance across Lough Erne towards Donegal. It’s spectacular but looks a long way down. \nLEG 4 – TRAIL RUNNING \nAlmost 300metres of descending in less than 1km. This will trash the legs unless you’re used to hill running. The steps can be tricky but you must keep to the path. \nLEG 5 – KAYAKING \nGrab your choice of open top kayak and head east parallel to the shoreline for 500metres before rounding the buoy and heading back to the transition area. You should be sheltered from the prevailing winds so you can enjoy the long views across Lough Erne to your right or contemplate what’s to come on the next leg to your left. Make sure to go around the jetty before heading into the shore. \nLEG 6 – TRAIL RUNNING \nAs a one off this next bit\, the climb back up to T2\, is hard enough but after what’s gone before it’s nothing short of horrendous. If you can run all the way and not cramp up you’ll be one of the very few. \nLEG 7 – CYCLING \nThe glory leg\, this is a fast and furious descent to the finish. Enjoy it. No holding back required. Let your inner Bradley Wiggins out. \nTotal: 35Kms (approx) \nNB. Routes may be subject to slight changes \nRegister Now!
URL:https://kayathlon.ie/event/fearmanagh-adventure-race-26/
LOCATION:Fermanagh\, Fermanagh\, United Kingdom
CATEGORIES:Adventure Race,Event Happening
ATTACH;FMTTYPE=image/png:https://kayathlon.ie/wp-content/uploads/2020/02/fearmanagh.png
END:VEVENT
BEGIN:VEVENT
DTSTART;TZID=Europe/Dublin:20261010T080000
DTEND;TZID=Europe/Dublin:20261010T170000
DTSTAMP:20260420T013819
CREATED:20260226T130349Z
LAST-MODIFIED:20260226T130449Z
UID:29411-1791619200-1791651600@kayathlon.ie
SUMMARY:Quest New Race to be Announced
DESCRIPTION:BRAND NEW QUEST EVENT?\n\nDetails to be released real soon folks 🙂
URL:https://kayathlon.ie/event/quest-new-26/
LOCATION:tbc\, Ireland
CATEGORIES:Adventure Race,cycling,Event Happening,kayaking,Mountain Run,National Adventure Race Series - Expert,National Adventure Race Series – Sport
ATTACH;FMTTYPE=image/png:https://kayathlon.ie/wp-content/uploads/2026/02/home-logo-144.png
END:VEVENT
BEGIN:VEVENT
DTSTART;VALUE=DATE:20261107
DTEND;VALUE=DATE:20261108
DTSTAMP:20260420T013819
CREATED:20260226T125852Z
LAST-MODIFIED:20260226T125908Z
UID:29406-1794009600-1794095999@kayathlon.ie
SUMMARY:Westport Sea 2 Summit
DESCRIPTION:S2S EVENT INFO\nWestport Sea 2 Summit takes place on Saturday 8th November. The adventure race is a unique event based in the adventure capital of Ireland\, Westport. The race incorporates all the thrills that Westport has to offer; Croagh Patrick\, Clew Bay\, the Sheaffry Mountains and the new Greenway. \nWestport Sea2Summit is organised and run by the Westport Plaza & Castlecourt Hotel Resort under the guidance of Race Director\, Paul O ‘Brien of Boot Camp West. \nThere will be two separate races with three categories in both\, which will include a mix of road running\, cycling\, and a mountain hike. \nThe Sea2Summit Spirit will cater for the participant that wants a challenge but has not taken part in adventure racing before. Duration time for the fastest will be 2.5 – 3hrs. \nThe Sea2Summit Supreme is for the participant who wants an extra challenge. The hike up and down the front face of Croagh Patrick (Murrisk) will hurt the legs and the back breaking ramps at the Maum climb will definitely test your bike and quad muscles.\nDuration time for the elite athletes will be around 3.5hrs.\nIn these two races\, there are 3 categories to choose from: \n\nAdvanced\nIntermediate\nBeginner\n\nYou will be asked when registering which category you would like to be in. We ask people to enter themselves into a category so that they will be competing alongside competitors of the same standard. \n\nThe S2S Supreme Course\nThe event begins at the Westport Plaza & Castlecourt Hotel Resort. \nStage 1 Participants will run up Distillery Road on to the new Greenway and follow the Greenway to Westport Quay. (4km) \nStage 2 The 1st Transition Point is at Roman Island there you change on to your bike and follow the road out via the coast to Murrisk (8k) to Croagh Patrick car park. ( Transition 2) \nStage 3 Changing shoes again to climb Croagh Patrick (5k) which is widely known and we are using the most used side for the race. At the top we urge that you take care on the descent as the loose shale is dangerous and numerous accidents have occurred there in the past. \nStage 4 Returning to Croagh Patrick Car Park to pick up your bike and take on the rolling hills. Taking the main road to Louisburgh turning at Kilsallagh for Drummin where the steep climb of the Maum awaits you; recommended gearing on your bike is 39×27 its 25% in places\, through Drummin village and on to Liscarney where it’s all downhill back to Roman Island transition point. \nStage 5 The last section could be the hardest\, with a 4 km run to include an obstacle course and sea run\, returning to Westport Town via the Greenway\, finishing at the Fairgreen overlooking the Mall River. \nTHE S2S SPIRIT COURSE\nThe S2S Spirit Course is similar with the same first run and bike but the hike up Croagh Patrick only goes as far as the ridge (3k) and then descends to the car park leaving out the torches Cone. The Cycle home is also reduced to 8km. \nWHAT ARE THE DISTANCES BREAKDOWN FOR S2S\nThe S2S Spirit\nRace Format \n\n4k run\n8k cycle\n3k Mountain run (Croagh Patrick) at half distance (1.5K) and at bottom (3K)\,\n11k cycle\n4k run with sea run (depending on tide times).Total distance 30km\n\nThe S2S Supreme\nRace Format \n\n4k run\n8k cycle\n5k Mountain run (Croagh Patrick) at half distance(2.5k) and at bottom (5k)\n35k cycle hilly cycle at (14K) and end of cycle\n4k run with sea run (depending on tide times).Total distance 56km\n\nRules of the Road and All Instructions from race marshals and Gardai must be obeyed at all times. \nClick here to view the Town Map \nSafety Information – What you need to know before you climb: Click Here \nWestport Sea 2 Summit would like to share the ethos of care on Croagh Patrick.\n• We would like to acknowledge and thank the landowners in their support for the Sea2Summit Adventure Race.\n• We acknowledge that Croagh Patrick is a place of pilgrimage and must be respected by all competitors\n• We are asking all competitors to by all means familiarize themselves with the route but we respectfully ask that they do not to use the mountain as a training ground in the build up to the events\n• Westport Sea 2 Summit  would like to promote an environmental policy on the mountain ; on our website we will encourage competitors to take your  litter with you\, “What you bring up you must bring down!”
URL:https://kayathlon.ie/event/sea-2-summit-2026/
LOCATION:Westport\, Mayo\, Ireland
CATEGORIES:Adventure Race,National Adventure Race Series - Expert,National Adventure Race Series – Sport
ATTACH;FMTTYPE=image/jpeg:https://kayathlon.ie/wp-content/uploads/2017/06/lol.jpg
ORGANIZER;CN="Westport Hotel Group":MAILTO:info@westportsea2summit.ie
END:VEVENT
END:VCALENDAR