BEGIN:VCALENDAR
VERSION:2.0
PRODID:-//Kayathlon - ECPv6.15.20//NONSGML v1.0//EN
CALSCALE:GREGORIAN
METHOD:PUBLISH
X-ORIGINAL-URL:https://kayathlon.ie
X-WR-CALDESC:Events for Kayathlon
REFRESH-INTERVAL;VALUE=DURATION:PT1H
X-Robots-Tag:noindex
X-PUBLISHED-TTL:PT1H
BEGIN:VTIMEZONE
TZID:Europe/Dublin
BEGIN:STANDARD
TZOFFSETFROM:+0000
TZOFFSETTO:+0100
TZNAME:IST
DTSTART:20250330T010000
END:STANDARD
BEGIN:DAYLIGHT
TZOFFSETFROM:+0100
TZOFFSETTO:+0000
TZNAME:GMT
DTSTART:20251026T010000
END:DAYLIGHT
BEGIN:STANDARD
TZOFFSETFROM:+0000
TZOFFSETTO:+0100
TZNAME:IST
DTSTART:20260329T010000
END:STANDARD
BEGIN:DAYLIGHT
TZOFFSETFROM:+0100
TZOFFSETTO:+0000
TZNAME:GMT
DTSTART:20261025T010000
END:DAYLIGHT
BEGIN:STANDARD
TZOFFSETFROM:+0000
TZOFFSETTO:+0100
TZNAME:IST
DTSTART:20270328T010000
END:STANDARD
BEGIN:DAYLIGHT
TZOFFSETFROM:+0100
TZOFFSETTO:+0000
TZNAME:GMT
DTSTART:20271031T010000
END:DAYLIGHT
END:VTIMEZONE
BEGIN:VEVENT
DTSTART;VALUE=DATE:20260912
DTEND;VALUE=DATE:20260913
DTSTAMP:20260419T201159
CREATED:20260226T125231Z
LAST-MODIFIED:20260226T125231Z
UID:29397-1789171200-1789257599@kayathlon.ie
SUMMARY:Achill Roar Adventure Race 2026
DESCRIPTION:The event will have 3 courses available\n\nAll Courses will start and finish at race HQ close to Keel beach \nLocation of parking for Race HQ is at this link: Achill AR Race HQ Parking \nThis is also the transition area where you will pass through at the end of each leg before starting on the next one \nFor the Overall ARI National Solo Series\, the Sport & Expert race results will count as one of the 9 Races in the overall series (Best 5 races to count)  \nCourse Details: \nExpert Course – 63km – Designed to Challenge all athletes \nTypically 3 to 6.5 hrs Duration \nProvisional Start Time 10am (TBC) \nActivities Involved: Kayak (2k)\, Trail Running (16km) and Road Biking (45km) \nFully Marked Route & Race Route Details Provided in advance \nSport Course- 32km – Designed for Intermediates/ Those looking for a good test \n1.5 to 3.5Hrs Duration \nProvisional Start Time 11am (TBC) \nActivities Involved: Kayak (1.5k)\, Trail Running (9k) and Road Biking (21k) \nFully Marked Route & Race Route Details Provided in advance \nChallenge Course – 18km – Designed for Beginners/ Newbies to Adventure Racing \n1 to 2.5 hrs Duration \nProvisional Start Time 12 noon (TBC) \nActivities Involved: Kayak (1k)\, Trail Running (5k) and Road Biking (12k) \nFully Marked Route & Race Route Details Provided in advance \nTo enter this event you need to have current membership to ARI.  \nIf you are not a member already you can join here     https://www.sientries.co.uk/event_series.php?series_id=603 \nParking: There is plenty of parking at event HQ at Keel Beach close to campsite \nFacilities: Showers are available for small fee at campsite. \nWater: There will be water available at the start/finish/ transition area – Please bring your own water bottles \nKAYAK:- The Kayak section is on a small inland lake. \nKayaks provided are single & double sit on tops \nOption to bring own kayak\, paddle & buoyancy Aid – Please select this option at entry to allow management of kayaks \nKayak Drop (8.30 to 9.30am on Saturday morning only) at this link: Achill AR Kayak Drop Off Point \nKayaks\, paddles & buoyancy aids left at lake at own risk at all times – Please ensure your property is marked with your name & race number. \nKayaks must be collected between 1.30 and 2.30pm only \n\n\n\n\nEarly Bird Rates only until 28th Feb 2026\n\n\nChallenge\n  €64.00\n\n\n\n\n  €69.00\n  (from 01/03/2026)\n\n\n\n  €74.00\n  (from 01/07/2026)\n\n\n\n  €79.00\n  (from 01/09/2026)\n\n\nSport\n  €69.00\n\n\n\n\n  €74.00\n  (from 01/03/2026)\n\n\n\n  €79.00\n  (from 01/07/2026)\n\n\n\n  €84.00\n  (from 01/08/2026)\n\n\n\n  €89.00\n  (from 01/09/2026)\n\n\nExpert\n  €74.00\n\n\n\n\n  €79.00\n  (from 01/03/2026)\n\n\n\n  €84.00\n  (from 01/07/2026)\n\n\n\n  €89.00\n  (from 01/08/2026)\n\n\n\n  €94.00\n  (from 01/09/2026)
URL:https://kayathlon.ie/event/achill-roar-26/
LOCATION:Achill Island\, Achill Island\, Mayo\, Ireland
CATEGORIES:Adventure Race,Event Happening,National Adventure Race Series – Sport
ATTACH;FMTTYPE=image/png:https://kayathlon.ie/wp-content/uploads/2026/02/2026-02-26_12-50-53.png
END:VEVENT
BEGIN:VEVENT
DTSTART;VALUE=DATE:20260926
DTEND;VALUE=DATE:20260927
DTSTAMP:20260419T201159
CREATED:20260226T125639Z
LAST-MODIFIED:20260226T125639Z
UID:29404-1790380800-1790467199@kayathlon.ie
SUMMARY:FEARmanagh Adventure Race
DESCRIPTION:What better way to spend a Saturday morning than getting up close and personal with Fermanagh’s rugged and wild terrain. Cycle through quiet back roads that cut through the limestone landscape\, carved out by Ireland’s icy past\, they’re guaranteed to give you more ups than downs! \nThen experience the wetter side of Fermanagh as you take to the water for 2 challenging Kilometres along Lough Erne’s rocky shores – and if the 304 metre near vertical climb to the top of the Magho Cliff Challenge doesn’t take your breath away\, then maybe the panoramic view it offers at the top will! So in a county steeped in myth and folklore\, are you ready to become a legend in your own time? \nFeel the FEAR and do it anyway! \nLong Race\nLong Race \n\nCycling (Knockmore to Lough Shore) 10.2kms\nRunning (Wee Dog Jog) 7kms\nCycling (Knockmore to Lough Shore cont …) 30.5kms\nRunning (Blackslee Trail) 4.5km\nCycling (Knockmore to Lough Shore cont …) 3.8kms\nRunning (The Magho Cliff Challenge – downhill) 1.2kms\nKayaking (Paddle Power Point) 2kms\nRunning (The Magho Cliff Challenge – uphill 1\,000ft) 1.2km\nCycling (Lough Shore to Pub Door) 13.6kms\n\nTotal: 74Kms (approx) \nFull Description\nLEG 1 – CYCLING \nAfter an easy start down through Derrygonnelly a series of small hills brings you to the foot of Knockmore. The climb starts steeply and gets worse before an easy section just after half way leads to the final ramp. Treat this climb with respect as there’s not much recovery before you reach Transition 1 (T1) and it’s too early in the day to be digging deep. \nLEG 2 – TRAIL RUN \nA fairly fast route on forest fire road with a short section of tarmac road at halfway. If it’s clear there can be great views early on towards the Sligo hills. Once through the farm yard after the road section prepare yourself for a sapping uphill drag of about 1km before retracing part of your outward route back to the bike. \nLEG 3 – CYCLING \nThe first section to Cashel Cross is great – good surface\, sweeping bends and almost all downhill. The next bit to Garrison isn’t too bad either – an initial climb followed by a quick section on the back road into the village. The route takes in the beautiful park alongside Lough Melvin before a short off road section across a footbridge and up a steep un-surfaced track. You’ll have to run this bit but it’s all over in a minute or two. The rest of the leg to T2 is on good road but it’s tough. Endless short steep hills or long drags for most of the way sap the strength of even the best cyclist. The section from the high point at Meenacloybane to the entrance to the forest drive gives you some respite before the final leg buster to T2. \nLEG4 – TRAIL RUNNING \nAlthough shorter than the first trail run this one seems harder. Again the first half is downhill on fire road except for about 800m of single track past the waterfall. It’s all uphill now back to the transition. It feels relentless at this stage in the race. \nLEG 5 – CYCLING \nThis is the shortest bike leg. If you’ve been changing shoes between running and cycling you might decide it’s not worth it for this section. The only problem is the really steep bit of road about half way in. Not easy to overcome in trail shoes on clipless pedals. If you can take the time to admire the view from T3 glance across Lough Erne towards Donegal. It’s spectacular but looks a long way down. \nLEG 6 – TRAIL RUNNING \nAlmost 300metres of descending in less than 1km. This will trash the legs unless you’re used to hill running. The steps can be tricky but you must keep to the path. \nLEG 7 – KAYAKING \nGrab your choice of open top kayak and head east parallel to the shoreline for 500metres before rounding the buoy and heading back past the transition area to the next buoy barely visible 1km away. You should be sheltered from the prevailing winds so you can enjoy the long views across Lough Erne to your right or contemplate what’s to come on the next leg to your left. Round buoy 2 and head back to transition. \nLEG 8 – TRAIL RUNNING \nAs a one off this next bit\, the climb back up to T3\, is hard enough but after what’s gone before it’s nothing short of horrendous. If you can run all the way and not cramp up you’ll be one of the very few. \nLEG 9 – CYCLING \nThe glory leg\, this is a fast and furious descent to the finish. Enjoy it. No holding back required. Let your inner Bradley Wiggins out. \nNB. Routes may be subject to slight changes \nShort Race\nShort Race \n\nCycling (Tir Navar to Lough Navar) 9.8kms\nRunning (Blackslee Trail) 4.5km\nCycling (Knockmore to Lough Shore cont……) 3.8kms\nRunning (The Magho Cliff Challenge – downhill) 1.2km\nKayaking (Paddle Power Point) 1km\nRunning (The Magho Cliff Challenge – uphill 1\,000ft) 1.2km\nCycling (Lough Shore to Pub Door) 13.6kms\n\nTotal: 35Kms (approx) \nFull Description\nLEG 1 – CYCLING \nAfter an easy start down through Derrygonnelly a series of small hills brings you to the foot of the climb up to the forest drive entrance. The next bit isn’t any easier; it’s a leg buster to T1. \nLEG 2 – TRAIL RUNNING \nMaybe on the map this doesn’t look too bad but give it some respect. The first half is downhill on fire road except for about 800m of single track past the waterfall. It’s all uphill now back to the transition. It feels relentless and will sap the leg strength before the next section. \nLEG 3 – CYCLING \nThis is the shortest bike leg. If you’re changing shoes between running and cycling you might decide it’s not worth it for this section. The only problem is the really steep bit of road about half way in. Not easy to overcome in trail shoes on clipless pedals. If you can take the time to admire the view from T2 glance across Lough Erne towards Donegal. It’s spectacular but looks a long way down. \nLEG 4 – TRAIL RUNNING \nAlmost 300metres of descending in less than 1km. This will trash the legs unless you’re used to hill running. The steps can be tricky but you must keep to the path. \nLEG 5 – KAYAKING \nGrab your choice of open top kayak and head east parallel to the shoreline for 500metres before rounding the buoy and heading back to the transition area. You should be sheltered from the prevailing winds so you can enjoy the long views across Lough Erne to your right or contemplate what’s to come on the next leg to your left. Make sure to go around the jetty before heading into the shore. \nLEG 6 – TRAIL RUNNING \nAs a one off this next bit\, the climb back up to T2\, is hard enough but after what’s gone before it’s nothing short of horrendous. If you can run all the way and not cramp up you’ll be one of the very few. \nLEG 7 – CYCLING \nThe glory leg\, this is a fast and furious descent to the finish. Enjoy it. No holding back required. Let your inner Bradley Wiggins out. \nTotal: 35Kms (approx) \nNB. Routes may be subject to slight changes \nRegister Now!
URL:https://kayathlon.ie/event/fearmanagh-adventure-race-26/
LOCATION:Fermanagh\, Fermanagh\, United Kingdom
CATEGORIES:Adventure Race,Event Happening
ATTACH;FMTTYPE=image/png:https://kayathlon.ie/wp-content/uploads/2020/02/fearmanagh.png
END:VEVENT
END:VCALENDAR