BEGIN:VCALENDAR
VERSION:2.0
PRODID:-//Kayathlon - ECPv6.15.20//NONSGML v1.0//EN
CALSCALE:GREGORIAN
METHOD:PUBLISH
X-ORIGINAL-URL:https://kayathlon.ie
X-WR-CALDESC:Events for Kayathlon
REFRESH-INTERVAL;VALUE=DURATION:PT1H
X-Robots-Tag:noindex
X-PUBLISHED-TTL:PT1H
BEGIN:VTIMEZONE
TZID:UTC
BEGIN:STANDARD
TZOFFSETFROM:+0000
TZOFFSETTO:+0000
TZNAME:UTC
DTSTART:20210101T000000
END:STANDARD
END:VTIMEZONE
BEGIN:VEVENT
DTSTART;TZID=UTC:20220924T080000
DTEND;TZID=UTC:20220924T170000
DTSTAMP:20260423T203120
CREATED:20220916T083535Z
LAST-MODIFIED:20220916T083535Z
UID:29030-1664006400-1664038800@kayathlon.ie
SUMMARY:Brickey Adventure Race '22
DESCRIPTION:
URL:https://kayathlon.ie/event/brickey-adventure-race-22/
LOCATION:Dungarvan\, Co. Waterford\, Bushy Park \,Dungarvan\, Waterford\, Ireland\, Dungarvan\, Waterford\, Ireland
ATTACH;FMTTYPE=image/jpeg:https://kayathlon.ie/wp-content/uploads/2022/09/287889953_111978908208819_1869072888430639132_n.jpg
END:VEVENT
END:VCALENDAR