BEGIN:VCALENDAR
VERSION:2.0
PRODID:-//Kayathlon - ECPv6.15.20//NONSGML v1.0//EN
CALSCALE:GREGORIAN
METHOD:PUBLISH
X-ORIGINAL-URL:https://kayathlon.ie
X-WR-CALDESC:Events for Kayathlon
REFRESH-INTERVAL;VALUE=DURATION:PT1H
X-Robots-Tag:noindex
X-PUBLISHED-TTL:PT1H
BEGIN:VTIMEZONE
TZID:Europe/Dublin
BEGIN:STANDARD
TZOFFSETFROM:+0000
TZOFFSETTO:+0100
TZNAME:IST
DTSTART:20220327T010000
END:STANDARD
BEGIN:DAYLIGHT
TZOFFSETFROM:+0100
TZOFFSETTO:+0000
TZNAME:GMT
DTSTART:20221030T010000
END:DAYLIGHT
BEGIN:STANDARD
TZOFFSETFROM:+0000
TZOFFSETTO:+0100
TZNAME:IST
DTSTART:20230326T010000
END:STANDARD
BEGIN:DAYLIGHT
TZOFFSETFROM:+0100
TZOFFSETTO:+0000
TZNAME:GMT
DTSTART:20231029T010000
END:DAYLIGHT
BEGIN:STANDARD
TZOFFSETFROM:+0000
TZOFFSETTO:+0100
TZNAME:IST
DTSTART:20240331T010000
END:STANDARD
BEGIN:DAYLIGHT
TZOFFSETFROM:+0100
TZOFFSETTO:+0000
TZNAME:GMT
DTSTART:20241027T010000
END:DAYLIGHT
END:VTIMEZONE
BEGIN:VEVENT
DTSTART;VALUE=DATE:20230812
DTEND;VALUE=DATE:20230813
DTSTAMP:20260423T213433
CREATED:20230419T092335Z
LAST-MODIFIED:20230419T092335Z
UID:29190-1691798400-1691884799@kayathlon.ie
SUMMARY:The Cavan Kayakarun
DESCRIPTION:Full Details to follow soon. \n\n\n\nWHAT\nThe Cavan Kayakarun Adventure Race 2023 is celebrating its 14th year\, as one of the first Adventure Races held in Ireland it is now established as one of the best. A community run non-profit event organized by Adventure racers and sports people you are sure of a great experience where all abilities and categories are catered for with something for Adventure race beginners wanting to give it a try while meeting all the challenges required by Experienced racers Cycle through the Drumlins of east Cavan\, kayak around the stunning crannogs of Barnagrow lake and enjoy the scenic views of Lough Sillan and Lough Tacker as you run or hike along the quiet trails and laneways.  See below for details:\n\n\nWHERE\nGallonray House\, Maudabawn\, Cootehill\, Co. Cavan. GPS co-ordinates:N 54° 01 8395 W 007° 01 3362\n\n\nWHEN\nSaturday 12th August @ 12noon\n\n\nWHY\nExcellent organisation\, warm local welcome\, fantastic location and a great value for money event for all. Brilliant after event party\, prize giving & family fun day . Hot food available for purchase.\n\n\n\nCategories: \nOpen                             Male/Female \nVeteran (Over 40’s)     Male/Female \nMasters (Over 50’s)     Male/Female \nRelay                             Any combination \nRace Details:   \n1) Run 4k \nThe Cavan Kayakarun Challenge starts at Gallonray House with a 4k run (on tarmac). \n2) Bike 16k \nOn completing the 4k run you get on your bike at the bike Transition at Gallonray house and cycle 16k to the beautiful Lough Barnagrow. \n3) Kayak 1.5k \nRack your bike at Lough Barnagrow where you get on a sit on or sit in Kayak and kayak around the Two Crannogs taking in the stunning scenery and return to the bike Transition at the lake shore. \n4) Bike 18k \nOn completing the kayak section you return to your bike and cycle 18k to Race HQ at Gallonray House. \n5) Run 4k \nThe final leg of the The Cavan Kayakarun Adventure Race is the same 4k run as completed at the start racking your bike at Gallonray House and completing the last challenge before crossing the finish line.
URL:https://kayathlon.ie/event/the-cavan-kayakarun-22-2/
LOCATION:Cavan\, Ireland
CATEGORIES:Adventure Race
ATTACH;FMTTYPE=image/jpeg:https://kayathlon.ie/wp-content/uploads/2017/03/12814082_1025925350783772_765093265036271197_n.jpg
ORGANIZER;CN="Cavan Kayakarun":MAILTO:info@cavankayakarun.com
END:VEVENT
END:VCALENDAR