BEGIN:VCALENDAR
VERSION:2.0
PRODID:-//Kayathlon - ECPv6.15.20//NONSGML v1.0//EN
CALSCALE:GREGORIAN
METHOD:PUBLISH
X-ORIGINAL-URL:https://kayathlon.ie
X-WR-CALDESC:Events for Kayathlon
REFRESH-INTERVAL;VALUE=DURATION:PT1H
X-Robots-Tag:noindex
X-PUBLISHED-TTL:PT1H
BEGIN:VTIMEZONE
TZID:UTC
BEGIN:STANDARD
TZOFFSETFROM:+0000
TZOFFSETTO:+0000
TZNAME:UTC
DTSTART:20220101T000000
END:STANDARD
END:VTIMEZONE
BEGIN:VEVENT
DTSTART;VALUE=DATE:20230902
DTEND;VALUE=DATE:20230903
DTSTAMP:20260425T155548
CREATED:20230306T203157Z
LAST-MODIFIED:20230306T203157Z
UID:29163-1693612800-1693699199@kayathlon.ie
SUMMARY:Post to Post Adventure Race
DESCRIPTION:Run\, Bike\, Kayak from ‘Post to Post’ taking in the most spectacular scenery around the beautiful Downings & Carrigart on the Wild Atlantic Way. \nStage 1: Coast Guard Loop - Run - 5.5km\nThe race starts under the goalposts at Pairc na nDúnaibh. The first stage is a 5.5K run up the hill\, past the coast guard station from which this stage takes it’s name\, down to the crossroads and back to the bike station at Pairc na nDúnaibh. \nStage 2: Atlantic Cycle: 26km\nCycle the world famous Atlantic Drive on the Rosguill peninsula overlooking the Murder Hole and Tra na Rossan\, before coming down the hill\, going through the townloands of Carrigart and Glen before finishing at the Boardwalk Resort. \nStage 3: Boardwalk Sprint - Run 2km\nA 2K run on the incredible Carrigart Boardwalk will take you over the Glenree river\, through the dunes to Tramore beach\, and back again. \nStage 4: Tour de Carrigart - 9km Cycle\nPick up your bike at the Boardwalk Resort bike station\, and cycle back to Pairc na nDúnaibh through Glenree\, Umlagh and Carrigart. \nStage 6: Sheephaven Kayak - 1km\nStarting and finishing a Downings Pier\, this stage is a 1K Kayak over a course set out in the glorious Sheephaven Bay. \nStage 7: Grandstand Finish 1km Run\nOne last dash to the finish line over the hard packed sand of Trá Beag beach in Downings to the finish line under the posts at Pairc na nDúnaibh.
URL:https://kayathlon.ie/event/post-to-post-adventure-race-23/
LOCATION:Downings\, Co. Donegal\, Pairc na nDúnaibh\, Downings\, Donegal\, Ireland
CATEGORIES:Adventure Race
ATTACH;FMTTYPE=image/png:https://kayathlon.ie/wp-content/uploads/2023/03/posttopost.png
END:VEVENT
END:VCALENDAR